BEGIN:VCALENDAR
VERSION:2.0
PRODID:-//Dunstable Town Council - ECPv6.15.18//NONSGML v1.0//EN
CALSCALE:GREGORIAN
METHOD:PUBLISH
X-ORIGINAL-URL:https://www.dunstable.gov.uk
X-WR-CALDESC:Events for Dunstable Town Council
REFRESH-INTERVAL;VALUE=DURATION:PT1H
X-Robots-Tag:noindex
X-PUBLISHED-TTL:PT1H
BEGIN:VTIMEZONE
TZID:Europe/London
BEGIN:DAYLIGHT
TZOFFSETFROM:+0000
TZOFFSETTO:+0100
TZNAME:BST
DTSTART:20240331T010000
END:DAYLIGHT
BEGIN:STANDARD
TZOFFSETFROM:+0100
TZOFFSETTO:+0000
TZNAME:GMT
DTSTART:20241027T010000
END:STANDARD
BEGIN:DAYLIGHT
TZOFFSETFROM:+0000
TZOFFSETTO:+0100
TZNAME:BST
DTSTART:20250330T010000
END:DAYLIGHT
BEGIN:STANDARD
TZOFFSETFROM:+0100
TZOFFSETTO:+0000
TZNAME:GMT
DTSTART:20251026T010000
END:STANDARD
BEGIN:DAYLIGHT
TZOFFSETFROM:+0000
TZOFFSETTO:+0100
TZNAME:BST
DTSTART:20260329T010000
END:DAYLIGHT
BEGIN:STANDARD
TZOFFSETFROM:+0100
TZOFFSETTO:+0000
TZNAME:GMT
DTSTART:20261025T010000
END:STANDARD
BEGIN:DAYLIGHT
TZOFFSETFROM:+0000
TZOFFSETTO:+0100
TZNAME:BST
DTSTART:20270328T010000
END:DAYLIGHT
BEGIN:STANDARD
TZOFFSETFROM:+0100
TZOFFSETTO:+0000
TZNAME:GMT
DTSTART:20271031T010000
END:STANDARD
END:VTIMEZONE
BEGIN:VEVENT
DTSTART;TZID=Europe/London:20260331T180000
DTEND;TZID=Europe/London:20260331T200000
DTSTAMP:20260423T100237
CREATED:20251218T120929Z
LAST-MODIFIED:20251218T121349Z
UID:4719-1774980000-1774987200@www.dunstable.gov.uk
SUMMARY:Easter Charm Bracelet Workshop
DESCRIPTION:
URL:https://www.dunstable.gov.uk/event/easter-charm-bracelet-workshop/
LOCATION:Priory House Gift Shop\, 33 High Street South\, LU6 3RZ
CATEGORIES:Priory House
ATTACH;FMTTYPE=image/jpeg:https://www.dunstable.gov.uk/wp-content/uploads/2025/12/AdobeStock_1685156695-scaled.jpeg
END:VEVENT
BEGIN:VEVENT
DTSTART;TZID=Europe/London:20251228T200000
DTEND;TZID=Europe/London:20251228T210000
DTSTAMP:20260423T100237
CREATED:20250915T124800Z
LAST-MODIFIED:20251205T161357Z
UID:3485-1766952000-1766955600@www.dunstable.gov.uk
SUMMARY:Dunstable Town Guides - Christmas Ghost Walk
DESCRIPTION:
URL:https://www.dunstable.gov.uk/event/dunstable-town-guides-christmas-ghost-walk/
LOCATION:Priory Church\, Church Close\, LU5 4RS
CATEGORIES:Priory House
ATTACH;FMTTYPE=image/jpeg:https://www.dunstable.gov.uk/wp-content/uploads/2025/09/Dunstable-Town-Guides.jpg
END:VEVENT
BEGIN:VEVENT
DTSTART;TZID=Europe/London:20250928T103000
DTEND;TZID=Europe/London:20250928T113000
DTSTAMP:20260423T100237
CREATED:20250918T085201Z
LAST-MODIFIED:20251009T134921Z
UID:3473-1759055400-1759059000@www.dunstable.gov.uk
SUMMARY:Medieval Dunstable Walk
DESCRIPTION:
URL:https://www.dunstable.gov.uk/event/medieval-dunstable-walk/
LOCATION:Priory House Gift Shop\, 33 High Street South\, LU6 3RZ
CATEGORIES:Priory House
ATTACH;FMTTYPE=image/jpeg:https://www.dunstable.gov.uk/wp-content/uploads/2025/09/Dunstable-Town-Guides.jpg
END:VEVENT
END:VCALENDAR